BEGIN:VCALENDAR
VERSION:2.0
PRODID:-//Department of Anthropology  - ECPv5.4.0.2//NONSGML v1.0//EN
CALSCALE:GREGORIAN
METHOD:PUBLISH
X-WR-CALNAME:Department of Anthropology 
X-ORIGINAL-URL:http://archive.fhss.sjp.ac.lk/anth
X-WR-CALDESC:Events for Department of Anthropology 
BEGIN:VTIMEZONE
TZID:UTC
BEGIN:STANDARD
TZOFFSETFROM:+0000
TZOFFSETTO:+0000
TZNAME:UTC
DTSTART:20210101T000000
END:STANDARD
END:VTIMEZONE
BEGIN:VEVENT
DTSTART;TZID=UTC:20210304T130000
DTEND;TZID=UTC:20210304T143000
DTSTAMP:20260419T140143
CREATED:20210301T112339Z
LAST-MODIFIED:20210301T114543Z
UID:6571-1614862800-1614868200@archive.fhss.sjp.ac.lk
SUMMARY:2nd Anthropology Colloquium on “Anthropology of Music”
DESCRIPTION:2nd Anthropology Colloquium on “Anthropology of Music” will be held on 4th March 2021 at 1.00 pm through ZOOM. \nColloquium will be conducted by Mr Vishnu Vasu; well known orator and Musician and will be moderated by Prof. Praneeth Abhayasundara of the Department of Anthropology. \nJoin through the following zoom link. \nTopic: 2nd Anthropology Colloquium on Anthropology of Music\nTime: Mar 4\, 2021 01:00 PM India \nJoin Zoom Meeting\nhttps://learn.zoom.us/j/68866549256?pwd=NmtGMmxTRnoyYVlxdytQa3BsUVhvQT09 \nMeeting ID: 688 6654 9256\nPasscode: s5vL%S3H \n 
URL:http://archive.fhss.sjp.ac.lk/anth/event/2nd-anthropology-colloquium-on-anthropology-of-music/
CATEGORIES:Upcoming Events
ATTACH;FMTTYPE=image/png:http://archive.fhss.sjp.ac.lk/anth/wp-content/uploads/sites/27/2021/03/Anthropology-Colloquium-02.png
END:VEVENT
END:VCALENDAR