BEGIN:VCALENDAR
VERSION:2.0
PRODID:-//Department of Anthropology  - ECPv5.4.0.2//NONSGML v1.0//EN
CALSCALE:GREGORIAN
METHOD:PUBLISH
X-WR-CALNAME:Department of Anthropology 
X-ORIGINAL-URL:http://archive.fhss.sjp.ac.lk/anth
X-WR-CALDESC:Events for Department of Anthropology 
BEGIN:VTIMEZONE
TZID:UTC
BEGIN:STANDARD
TZOFFSETFROM:+0000
TZOFFSETTO:+0000
TZNAME:UTC
DTSTART:20200101T000000
END:STANDARD
END:VTIMEZONE
BEGIN:VEVENT
DTSTART;TZID=UTC:20200928T080000
DTEND;TZID=UTC:20200929T170000
DTSTAMP:20260419T172347
CREATED:20210111T115245Z
LAST-MODIFIED:20210207T135057Z
UID:6301-1601280000-1601398800@archive.fhss.sjp.ac.lk
SUMMARY:Workshop on Professional Etiquette and Mannerism at Kaduruketha Jetwing Hotel
DESCRIPTION:
URL:http://archive.fhss.sjp.ac.lk/anth/event/anthropology-day-2/
CATEGORIES:Upcoming Events
ATTACH;FMTTYPE=image/png:http://archive.fhss.sjp.ac.lk/anth/wp-content/uploads/sites/27/2021/01/Kaduruketha-poster.png
END:VEVENT
END:VCALENDAR