BEGIN:VCALENDAR
VERSION:2.0
PRODID:-//Faculty of Humanities and Social Sciences - ECPv5.4.0.2//NONSGML v1.0//EN
CALSCALE:GREGORIAN
METHOD:PUBLISH
X-WR-CALNAME:Faculty of Humanities and Social Sciences
X-ORIGINAL-URL:http://archive.fhss.sjp.ac.lk
X-WR-CALDESC:Events for Faculty of Humanities and Social Sciences
BEGIN:VTIMEZONE
TZID:UTC
BEGIN:STANDARD
TZOFFSETFROM:+0000
TZOFFSETTO:+0000
TZNAME:UTC
DTSTART:20220101T000000
END:STANDARD
END:VTIMEZONE
BEGIN:VEVENT
DTSTART;TZID=UTC:20220221T180000
DTEND;TZID=UTC:20220221T193000
DTSTAMP:20260420T045209
CREATED:20220215T171414Z
LAST-MODIFIED:20220215T171900Z
UID:32178-1645466400-1645471800@archive.fhss.sjp.ac.lk
SUMMARY:අපිව දකිමු - ගැහැණුන් ගැන පිරිමි කතා
DESCRIPTION:අපිව දකිමු – ගැහැණුන් ගැන පිරිමි කතා යන මැයෙන් වන සංවාදය ජ්‍යෙෂ්ඨ නියෝජ්‍ය පොලිස්පති\, නීතිඥ අජිත් රෝහණ මහතාගේ සහභාගීත්වයෙන් සහ මහාචාර්ය නෙරංජි විජයවර්ධන මහත්මියගේ මෙහෙයවීමෙන් 2022 පෙබරවාරි මස 21 වන දින ප.ව 6.00 පැවැත්වේ. සංවිධානය මානවශාස්ත්‍ර හා සමාජීය විද්‍යා පීඨයේ\, ස්ත්‍රීපුරුෂ සමාජභාවය\, සමානතාවය සහ සාධාරණත්වය පිළිබඳ ඒකකය මගිනි. \nTopic: අපිව දකිමු – ගැහැණුන් ගැන පිරිමි කතා\nTime: Feb 21\, 2022 06:00 PM Colombo \nJoin Zoom Meeting\nhttps://zoom.us/j/97804008012?pwd=ditQT2J1Qk0wZjZLRXVnbFFkUmU3QT09 \nMeeting ID: 978 0400 8012\nPasscode: 606437
URL:http://archive.fhss.sjp.ac.lk/event/%e0%b6%85%e0%b6%b4%e0%b7%92%e0%b7%80-%e0%b6%af%e0%b6%9a%e0%b7%92%e0%b6%b8%e0%b7%94-%e0%b6%9c%e0%b7%90%e0%b7%84%e0%b7%90%e0%b6%ab%e0%b7%94%e0%b6%b1%e0%b7%8a-%e0%b6%9c%e0%b7%90%e0%b6%b1-%e0%b6%b4/
CATEGORIES:Upcoming Events
ATTACH;FMTTYPE=image/png:http://archive.fhss.sjp.ac.lk/wp-content/uploads/2022/02/EOC-1.png
END:VEVENT
END:VCALENDAR