BEGIN:VCALENDAR
VERSION:2.0
PRODID:-//Faculty of Humanities and Social Sciences - ECPv5.4.0.2//NONSGML v1.0//EN
CALSCALE:GREGORIAN
METHOD:PUBLISH
X-WR-CALNAME:Faculty of Humanities and Social Sciences
X-ORIGINAL-URL:http://archive.fhss.sjp.ac.lk
X-WR-CALDESC:Events for Faculty of Humanities and Social Sciences
BEGIN:VTIMEZONE
TZID:UTC
BEGIN:STANDARD
TZOFFSETFROM:+0000
TZOFFSETTO:+0000
TZNAME:UTC
DTSTART:20220101T000000
END:STANDARD
END:VTIMEZONE
BEGIN:VEVENT
DTSTART;TZID=UTC:20220924T133000
DTEND;TZID=UTC:20220924T150000
DTSTAMP:20260420T053307
CREATED:20220922T111753Z
LAST-MODIFIED:20220922T111753Z
UID:33693-1664026200-1664031600@archive.fhss.sjp.ac.lk
SUMMARY:සංචාරකයන් වෙනුවෙන් ඉටුවිය යුතු කෞතුකාගාරයේ වගකීම
DESCRIPTION:ඉතිහාස හා පුරාවිද්‍යා අධ්‍යයනාංශ කෞතුකාගාරය හා විෂය සංගමය විසින් 2022 ජාත්‍යන්තර සංචාරක දිනය වෙනුවෙන් පවත්වනු ලබන විශේෂ ආරාධිත දේශනය 2022.09.24 දින ප.ව. 1.30ට මාර්ගගත ක්‍රමයට පැවැත්වේ. පහත සබැඳියෙන් එම දේශනය හා සම්බන්ධවීමට ඔබ සැමට ආරාධනා..\nTopic: World Tourism Day 2022\nTime: Sep 24\, 2022 01:30 PM Mumbai\, Kolkata\, New Delhi \nJoin Zoom Meeting\nhttps://learn.zoom.us/j/62259420492?pwd=S1B2eCs2cC83L3hDaXdLdG1kMWdOdz09\nMeeting ID: 622 5942 0492\nPasscode: TOU@2022r
URL:http://archive.fhss.sjp.ac.lk/event/%e0%b7%83%e0%b6%82%e0%b6%a0%e0%b7%8f%e0%b6%bb%e0%b6%9a%e0%b6%ba%e0%b6%b1%e0%b7%8a-%e0%b7%80%e0%b7%99%e0%b6%b1%e0%b7%94%e0%b7%80%e0%b7%99%e0%b6%b1%e0%b7%8a-%e0%b6%89%e0%b6%a7%e0%b7%94%e0%b7%80%e0%b7%92/
LOCATION:Online
CATEGORIES:Upcoming Events
ATTACH;FMTTYPE=image/jpeg:http://archive.fhss.sjp.ac.lk/wp-content/uploads/2022/09/World-Tourism-Day-2022_Department-of-Histor-scaled.jpg
END:VEVENT
END:VCALENDAR