BEGIN:VCALENDAR
VERSION:2.0
PRODID:-//Faculty of Humanities and Social Sciences - ECPv5.4.0.2//NONSGML v1.0//EN
CALSCALE:GREGORIAN
METHOD:PUBLISH
X-WR-CALNAME:Faculty of Humanities and Social Sciences
X-ORIGINAL-URL:http://archive.fhss.sjp.ac.lk
X-WR-CALDESC:Events for Faculty of Humanities and Social Sciences
BEGIN:VTIMEZONE
TZID:UTC
BEGIN:STANDARD
TZOFFSETFROM:+0000
TZOFFSETTO:+0000
TZNAME:UTC
DTSTART:20220101T000000
END:STANDARD
END:VTIMEZONE
BEGIN:VEVENT
DTSTART;TZID=UTC:20220305T183000
DTEND;TZID=UTC:20220305T193000
DTSTAMP:20260419T192712
CREATED:20220302T171634Z
LAST-MODIFIED:20220302T171634Z
UID:32507-1646505000-1646508600@archive.fhss.sjp.ac.lk
SUMMARY:Application of Radiation Technology for Cultural Heritage
DESCRIPTION:3rd Folk Art Festival organized by the Department of Anthropology under the AHEAD Department Grant will be taken place on 5th March 2022 on “Application of Radiation Technology for Cultural Heritage” via zoom. \nMr. Charith Pathirana\, Scientific Officer – Radiation Processing Section\, Industrial Applications Division\, Sri Lanka Atomic Energy Board and Prof. Praneeth Abhayasundara of the Department of Anthropology will conduct the discussion on the above mentioned topic. \nAlso at the same event winners of the English Language Essay Competition will be announced. It was also conducted in the year 2021 as an AHEAD activity. \nTime and Date: 5th March 2022 at 6.00 pm onwards \nZoom link: https://learn.zoom.us/j/63077435694?pwd=UE01NWdhQllXb294V3dXT090dTNLUT09 \nMeeting ID: 630 7743 5694 \nPasscode: iv8iH&Rn
URL:http://archive.fhss.sjp.ac.lk/event/application-of-radiation-technology-for-cultural-heritage/
CATEGORIES:Upcoming Events
ATTACH;FMTTYPE=image/png:http://archive.fhss.sjp.ac.lk/wp-content/uploads/2022/03/FA-3-FINAL-01.png
END:VEVENT
END:VCALENDAR