BEGIN:VCALENDAR
VERSION:2.0
PRODID:-//Faculty of Humanities and Social Sciences - ECPv5.4.0.2//NONSGML v1.0//EN
CALSCALE:GREGORIAN
METHOD:PUBLISH
X-WR-CALNAME:Faculty of Humanities and Social Sciences
X-ORIGINAL-URL:http://archive.fhss.sjp.ac.lk
X-WR-CALDESC:Events for Faculty of Humanities and Social Sciences
BEGIN:VTIMEZONE
TZID:UTC
BEGIN:STANDARD
TZOFFSETFROM:+0000
TZOFFSETTO:+0000
TZNAME:UTC
DTSTART:20220101T000000
END:STANDARD
END:VTIMEZONE
BEGIN:VEVENT
DTSTART;TZID=UTC:20220728T100000
DTEND;TZID=UTC:20220728T120000
DTSTAMP:20260419T185307
CREATED:20220720T085045Z
LAST-MODIFIED:20220720T085045Z
UID:33123-1659002400-1659009600@archive.fhss.sjp.ac.lk
SUMMARY:Awareness Workshop on Research Proposal Budgets and Petty Cash Handling for FHSS Academic Staff
DESCRIPTION:Quality Assurance Cell of the Faculty of Humanities and Social Sciences conduct this awareness session to improve the awareness on general finance documents of the academic staff of the Faculty of Humanities and Social Sciences.\n\n\nTime: Jul 28\, 2022 10:00 AM Colombo \nJoin Zoom Meeting\nhttps://zoom.us/j/96063070768?pwd=d3ZUTk1wZERUcDlDRExuWUlqRXJ2Zz09 \nMeeting ID: 960 6307 0768\nPasscode: 750110
URL:http://archive.fhss.sjp.ac.lk/event/awareness-workshop-on-research-proposal-budgets-and-petty-cash-handling-for-fhss-academic-staff/
LOCATION:Online
CATEGORIES:Upcoming Events
ATTACH;FMTTYPE=image/jpeg:http://archive.fhss.sjp.ac.lk/wp-content/uploads/2022/07/Research-Proposal-Budgets-abd-Petty-Cash-Hand_QAC-FHSS-scaled.jpg
END:VEVENT
END:VCALENDAR