BEGIN:VCALENDAR
VERSION:2.0
PRODID:-//Faculty of Humanities and Social Sciences - ECPv5.4.0.2//NONSGML v1.0//EN
CALSCALE:GREGORIAN
METHOD:PUBLISH
X-WR-CALNAME:Faculty of Humanities and Social Sciences
X-ORIGINAL-URL:http://archive.fhss.sjp.ac.lk
X-WR-CALDESC:Events for Faculty of Humanities and Social Sciences
BEGIN:VTIMEZONE
TZID:UTC
BEGIN:STANDARD
TZOFFSETFROM:+0000
TZOFFSETTO:+0000
TZNAME:UTC
DTSTART:20220101T000000
END:STANDARD
END:VTIMEZONE
BEGIN:VEVENT
DTSTART;TZID=UTC:20220324T130000
DTEND;TZID=UTC:20220324T150000
DTSTAMP:20260419T205046
CREATED:20220322T160603Z
LAST-MODIFIED:20220322T160603Z
UID:32671-1648126800-1648134000@archive.fhss.sjp.ac.lk
SUMMARY:Climate Change and Sustainable Development Goals
DESCRIPTION:A guest lecture on Climate Change and Sustainable Development Goals will be held on Thursday\, 24 March 2022\, at 1.00 PM. The guest speaker is Mr. Ruwan Samaraweera\, Research Officer at the Institute of Policy Studies of Sri Lanka. \n  \nTopic: Climate Change and the Sustainable Development Goals\nTime: Mar 24\, 2022 01:00 PM Colombo \nJoin Zoom Meeting\nhttps://zoom.us/j/98600957949?pwd=T1VLb0lmMGRIeXArZzhHYllsNzA0QT09 \nMeeting ID: 986 0095 7949\nPasscode: 833124
URL:http://archive.fhss.sjp.ac.lk/event/climate-change-and-sustainable-development-goals/
CATEGORIES:Upcoming Events
ATTACH;FMTTYPE=image/jpeg:http://archive.fhss.sjp.ac.lk/wp-content/uploads/2022/03/WhatsApp-Image-2022-03-21-at-10.00.36-PM.jpeg
END:VEVENT
END:VCALENDAR