BEGIN:VCALENDAR
VERSION:2.0
PRODID:-//Faculty of Humanities and Social Sciences - ECPv5.4.0.2//NONSGML v1.0//EN
CALSCALE:GREGORIAN
METHOD:PUBLISH
X-WR-CALNAME:Faculty of Humanities and Social Sciences
X-ORIGINAL-URL:http://archive.fhss.sjp.ac.lk
X-WR-CALDESC:Events for Faculty of Humanities and Social Sciences
BEGIN:VTIMEZONE
TZID:UTC
BEGIN:STANDARD
TZOFFSETFROM:+0000
TZOFFSETTO:+0000
TZNAME:UTC
DTSTART:20210101T000000
END:STANDARD
END:VTIMEZONE
BEGIN:VEVENT
DTSTART;TZID=UTC:20211005T160000
DTEND;TZID=UTC:20211005T180000
DTSTAMP:20260420T045140
CREATED:20211001T065314Z
LAST-MODIFIED:20211001T065852Z
UID:31477-1633449600-1633456800@archive.fhss.sjp.ac.lk
SUMMARY:Community Leader Program Workshop 02: Presentation Skills & Portfolio writing
DESCRIPTION:මානවශාස්ත්‍ර හා සමාජීයවිද්‍යා පීඨයේ සිසුන් සඳහා\nසංවිධානය කරනු ලබන\nප්‍රජා නායකත්ව අභිවර්ධන වැඩසටහන් මාලාව\nවැඩසටහන-02: Planning a community development project\nමාතෘකාව: නිවැරදිව  Portfolio එකක් පිළියෙල කරගැනීම සහ ව්‍යාපෘති සැලැස්මක් ඉදිරිපත් කිරීම\nදිනය: 2021 ඔක්තෝම්බර් මස 05 වැනි දින \nවේලාව: සවස 04 ට (04.00 pm) \nසම්පත් දායකත්වය: Mrs. Chathurangani Thennakoon and  Mr. Sameera Jayawardene\, Career Advisers\, Career Guidance Unit\,               University of Sri Jayewardenepura \nZoom Link: \nTopic: Presentation Skills & Portfolio writing\nTime: Oct 5\, 2021 04:00 PM Colombo\nJoin Zoom Meeting\nhttps://zoom.us/j/93946766398?pwd=eW5OTHRzUVAvdjV1MGdoTjVxUFpzZz09 \nMeeting ID: 939 4676 6398\nPasscode: 947049
URL:http://archive.fhss.sjp.ac.lk/event/community-leader-program-workshop-series-02-presentation-skills-portfolio-writing/
CATEGORIES:Upcoming Events
ATTACH;FMTTYPE=image/png:http://archive.fhss.sjp.ac.lk/wp-content/uploads/2021/10/Community-Leader-Workshop-01.png
END:VEVENT
END:VCALENDAR