BEGIN:VCALENDAR
VERSION:2.0
PRODID:-//Faculty of Humanities and Social Sciences - ECPv5.4.0.2//NONSGML v1.0//EN
CALSCALE:GREGORIAN
METHOD:PUBLISH
X-WR-CALNAME:Faculty of Humanities and Social Sciences
X-ORIGINAL-URL:http://archive.fhss.sjp.ac.lk
X-WR-CALDESC:Events for Faculty of Humanities and Social Sciences
BEGIN:VTIMEZONE
TZID:UTC
BEGIN:STANDARD
TZOFFSETFROM:+0000
TZOFFSETTO:+0000
TZNAME:UTC
DTSTART:20220101T000000
END:STANDARD
END:VTIMEZONE
BEGIN:VEVENT
DTSTART;TZID=UTC:20220226T090000
DTEND;TZID=UTC:20220226T113000
DTSTAMP:20260419T211940
CREATED:20220225T155545Z
LAST-MODIFIED:20220225T155545Z
UID:32393-1645866000-1645875000@archive.fhss.sjp.ac.lk
SUMMARY:Implementing ICT to Enhance Imndividual's Life
DESCRIPTION:
URL:http://archive.fhss.sjp.ac.lk/event/implementing-ict-to-enhance-imndividuals-life/
ATTACH;FMTTYPE=image/jpeg:http://archive.fhss.sjp.ac.lk/wp-content/uploads/2022/02/IMG-20220223-WA0005.jpg
END:VEVENT
END:VCALENDAR