BEGIN:VCALENDAR
VERSION:2.0
PRODID:-//Faculty of Humanities and Social Sciences - ECPv5.4.0.2//NONSGML v1.0//EN
CALSCALE:GREGORIAN
METHOD:PUBLISH
X-WR-CALNAME:Faculty of Humanities and Social Sciences
X-ORIGINAL-URL:http://archive.fhss.sjp.ac.lk
X-WR-CALDESC:Events for Faculty of Humanities and Social Sciences
BEGIN:VTIMEZONE
TZID:UTC
BEGIN:STANDARD
TZOFFSETFROM:+0000
TZOFFSETTO:+0000
TZNAME:UTC
DTSTART:20220101T000000
END:STANDARD
END:VTIMEZONE
BEGIN:VEVENT
DTSTART;TZID=UTC:20220313T080000
DTEND;TZID=UTC:20220313T093000
DTSTAMP:20260419T192215
CREATED:20220311T145749Z
LAST-MODIFIED:20220311T145749Z
UID:32601-1647158400-1647163800@archive.fhss.sjp.ac.lk
SUMMARY:Inauguration: Diploma in English
DESCRIPTION:Topic: Inauguration Diploma in English\nTime: Mar 13\, 2022 08:00 AM Colombo \nJoin Zoom Meeting\nhttps://zoom.us/j/93310325807?pwd=UGs3WUxCWEJmNlVRVlMzVTZZdkx3Zz09 \nMeeting ID: 933 1032 5807\nPasscode: 471782
URL:http://archive.fhss.sjp.ac.lk/event/inauguration-diploma-in-english/
CATEGORIES:Upcoming Events
ATTACH;FMTTYPE=image/jpeg:http://archive.fhss.sjp.ac.lk/wp-content/uploads/2022/03/unnamed-2-scaled.jpg
END:VEVENT
END:VCALENDAR