BEGIN:VCALENDAR
VERSION:2.0
PRODID:-//Faculty of Humanities and Social Sciences - ECPv5.4.0.2//NONSGML v1.0//EN
CALSCALE:GREGORIAN
METHOD:PUBLISH
X-WR-CALNAME:Faculty of Humanities and Social Sciences
X-ORIGINAL-URL:http://archive.fhss.sjp.ac.lk
X-WR-CALDESC:Events for Faculty of Humanities and Social Sciences
BEGIN:VTIMEZONE
TZID:UTC
BEGIN:STANDARD
TZOFFSETFROM:+0000
TZOFFSETTO:+0000
TZNAME:UTC
DTSTART:20220101T000000
END:STANDARD
END:VTIMEZONE
BEGIN:VEVENT
DTSTART;TZID=UTC:20220131T180000
DTEND;TZID=UTC:20220131T203000
DTSTAMP:20260420T045203
CREATED:20220131T102721Z
LAST-MODIFIED:20220131T102832Z
UID:32088-1643652000-1643661000@archive.fhss.sjp.ac.lk
SUMMARY:Practicing Environmental Compassion" Workshop - Session 01(පරිසරය වෙනුවෙන් ඔබගේ වගකීම)
DESCRIPTION:A workshop organized by the Green Hub of the FHSS and Vidumini- Skills Development Endeavour of the the External Degree and Extension Course Unit of the USJ on “Practicing Environmental Compassion” (පරිසරය වෙනුවෙන් ඔබගේ වගකීම) will be held on 31st January 2022 from 6.00 pm onwards with the participation of the resource person Snr. Prof. Hemanthi Ranasinghe of the Department of Forestry and Environment Science USJ.\nTime: Jan 31\, 2022 06:00 PM Colombo \nJoin Zoom Meeting\nhttps://zoom.us/j/91544150558?pwd=NDA1c2h1bjg2SXM0YUFZOUI3bXQxUT09 \nMeeting ID: 915 4415 0558\nPasscode: 119066
URL:http://archive.fhss.sjp.ac.lk/event/practicing-environmental-compassion-workshop-session-01%e0%b6%b4%e0%b6%bb%e0%b7%92%e0%b7%83%e0%b6%bb%e0%b6%ba-%e0%b7%80%e0%b7%99%e0%b6%b1%e0%b7%94%e0%b7%80%e0%b7%99%e0%b6%b1%e0%b7%8a-%e0%b6%94/
CATEGORIES:Upcoming Events
ATTACH;FMTTYPE=image/jpeg:http://archive.fhss.sjp.ac.lk/wp-content/uploads/2022/01/green-Hub_EW-GH-01-1-scaled.jpg
END:VEVENT
END:VCALENDAR