BEGIN:VCALENDAR
VERSION:2.0
PRODID:-//Faculty of Humanities and Social Sciences - ECPv5.4.0.2//NONSGML v1.0//EN
CALSCALE:GREGORIAN
METHOD:PUBLISH
X-WR-CALNAME:Faculty of Humanities and Social Sciences
X-ORIGINAL-URL:http://archive.fhss.sjp.ac.lk
X-WR-CALDESC:Events for Faculty of Humanities and Social Sciences
BEGIN:VTIMEZONE
TZID:UTC
BEGIN:STANDARD
TZOFFSETFROM:+0000
TZOFFSETTO:+0000
TZNAME:UTC
DTSTART:20220101T000000
END:STANDARD
END:VTIMEZONE
BEGIN:VEVENT
DTSTART;TZID=UTC:20220310T150000
DTEND;TZID=UTC:20220310T170000
DTSTAMP:20260419T212000
CREATED:20220309T151136Z
LAST-MODIFIED:20220309T151136Z
UID:32554-1646924400-1646931600@archive.fhss.sjp.ac.lk
SUMMARY:The Right to Water for Humans and Nature
DESCRIPTION:Join Zoom Meeting\nhttps://zoom.us/j/95524475025?pwd=Y2VIaHE2cUZRcC9pdWRMVGQ5U0hlZz09 \nMeeting ID: 955 2447 5025\nPasscode: 205262
URL:http://archive.fhss.sjp.ac.lk/event/the-right-to-water-for-humans-and-nature/
ATTACH;FMTTYPE=image/jpeg:http://archive.fhss.sjp.ac.lk/wp-content/uploads/2022/03/Green-hub-water-and-nature-01-scaled.jpg
END:VEVENT
END:VCALENDAR