BEGIN:VCALENDAR
VERSION:2.0
PRODID:-//Quality Assurance Cell - ECPv5.4.0.2//NONSGML v1.0//EN
CALSCALE:GREGORIAN
METHOD:PUBLISH
X-WR-CALNAME:Quality Assurance Cell
X-ORIGINAL-URL:http://archive.fhss.sjp.ac.lk/iqac
X-WR-CALDESC:Events for Quality Assurance Cell
BEGIN:VTIMEZONE
TZID:UTC
BEGIN:STANDARD
TZOFFSETFROM:+0000
TZOFFSETTO:+0000
TZNAME:UTC
DTSTART:20200101T000000
END:STANDARD
END:VTIMEZONE
BEGIN:VEVENT
DTSTART;TZID=UTC:20200818T080000
DTEND;TZID=UTC:20210225T170000
DTSTAMP:20260419T140249
CREATED:20210225T083704Z
LAST-MODIFIED:20210225T085247Z
UID:6223-1597737600-1614272400@archive.fhss.sjp.ac.lk
SUMMARY:Workshop on An Introduction to Quality Assurance System in Sri Lankan Universities
DESCRIPTION:
URL:http://archive.fhss.sjp.ac.lk/iqac/event/workshop-on-health-and-occupational-safety-for-academic-and-non-academic-members/
CATEGORIES:Upcoming Events
ATTACH;FMTTYPE=image/jpeg:http://archive.fhss.sjp.ac.lk/iqac/wp-content/uploads/sites/28/2021/02/DSC_5518-768x512-1.jpg
END:VEVENT
END:VCALENDAR