BEGIN:VCALENDAR
VERSION:2.0
PRODID:-//Department of Sociology - ECPv5.4.0.2//NONSGML v1.0//EN
CALSCALE:GREGORIAN
METHOD:PUBLISH
X-WR-CALNAME:Department of Sociology
X-ORIGINAL-URL:http://archive.fhss.sjp.ac.lk/soc
X-WR-CALDESC:Events for Department of Sociology
BEGIN:VTIMEZONE
TZID:UTC
BEGIN:STANDARD
TZOFFSETFROM:+0000
TZOFFSETTO:+0000
TZNAME:UTC
DTSTART:20190101T000000
END:STANDARD
END:VTIMEZONE
BEGIN:VEVENT
DTSTART;TZID=UTC:20190421T080000
DTEND;TZID=UTC:20190421T170000
DTSTAMP:20260419T211941
CREATED:20210221T075442Z
LAST-MODIFIED:20210221T075510Z
UID:6246-1555833600-1555866000@archive.fhss.sjp.ac.lk
SUMMARY:Workshop on “Sexual & Reproductive Health” Conducted by UNFPA – Department of Sociology
DESCRIPTION:
URL:http://archive.fhss.sjp.ac.lk/soc/event/workshop-on-sexual-reproductive-health-conducted-by-unfpa-department-of-sociology/
CATEGORIES:Upcoming Events
ATTACH;FMTTYPE=image/png:http://archive.fhss.sjp.ac.lk/soc/wp-content/uploads/sites/12/2021/02/Workshop-on-Sexual-Reproductive-Health-Conducted-by-UNFPA.png
END:VEVENT
END:VCALENDAR