BEGIN:VCALENDAR
VERSION:2.0
PRODID:-//Department of Social Statistics - ECPv5.4.0.2//NONSGML v1.0//EN
CALSCALE:GREGORIAN
METHOD:PUBLISH
X-WR-CALNAME:Department of Social Statistics
X-ORIGINAL-URL:http://archive.fhss.sjp.ac.lk/sost
X-WR-CALDESC:Events for Department of Social Statistics
BEGIN:VTIMEZONE
TZID:UTC
BEGIN:STANDARD
TZOFFSETFROM:+0000
TZOFFSETTO:+0000
TZNAME:UTC
DTSTART:20230101T000000
END:STANDARD
END:VTIMEZONE
BEGIN:VEVENT
DTSTART;TZID=UTC:20230503T090000
DTEND;TZID=UTC:20230503T120000
DTSTAMP:20260420T061612
CREATED:20230502T112304Z
LAST-MODIFIED:20230502T112304Z
UID:6938-1683104400-1683115200@archive.fhss.sjp.ac.lk
SUMMARY:Guest Talk on National Index Numbers Construction and Applications
DESCRIPTION:Index numbers in Statistics serve as a measure to study the change in the effects of all the factors that cannot be measured or estimated on a direct basis. In Sri Lanka\, the Department of Census and Statistics constructs the key national index numbers used such as Consumer Price Index and other important price and wage indices. Therefore\, in order to improve students’ knowledge of the construction and applications of national index numbers\, the Department of Social Statistics is organizing a Guest Talk on National Index Numbers Construction and Applications on the 3rd of May\, 2023 from 9 a.m. to 12 noon at the H2\, 2nd Floor\, Sri Sumangala Mansion. \nAs the guest speaker\, Dr. (Ms.) Nirosha Disanayake\, Director (Statistics)\, Prices and Wages Division\, Department of Census and Statistics will share her knowledge and experience throughout the session. Students who are interested in the topic can participate in the guest talk.
URL:http://archive.fhss.sjp.ac.lk/sost/event/guest-talk-on-national-index-numbers-construction-and-applications/
CATEGORIES:Upcoming Events
ATTACH;FMTTYPE=image/jpeg:http://archive.fhss.sjp.ac.lk/sost/wp-content/uploads/sites/10/2023/05/Flyer_Department-of-Social-1.jpg
END:VEVENT
END:VCALENDAR