BEGIN:VCALENDAR
VERSION:2.0
PRODID:-//Department of Social Statistics - ECPv5.4.0.2//NONSGML v1.0//EN
CALSCALE:GREGORIAN
METHOD:PUBLISH
X-WR-CALNAME:Department of Social Statistics
X-ORIGINAL-URL:http://archive.fhss.sjp.ac.lk/sost
X-WR-CALDESC:Events for Department of Social Statistics
BEGIN:VTIMEZONE
TZID:UTC
BEGIN:STANDARD
TZOFFSETFROM:+0000
TZOFFSETTO:+0000
TZNAME:UTC
DTSTART:20230101T000000
END:STANDARD
END:VTIMEZONE
BEGIN:VEVENT
DTSTART;TZID=UTC:20230624T100000
DTEND;TZID=UTC:20230624T120000
DTSTAMP:20260419T234528
CREATED:20230623T103924Z
LAST-MODIFIED:20230623T103925Z
UID:6999-1687600800-1687608000@archive.fhss.sjp.ac.lk
SUMMARY:Leveraging LinkedIn: Unlocking professional success in the digital age
DESCRIPTION:We have with us\, Mr. Randika Haputhanthri Creative Director Azbow (Pvt.) Ltd. as the Resource Person AndMr. Chan Surendra Freelance Digital Marketer as the Alumni Moderator \nDate: 24th of June 2023 Time: 10 AM to 12 PM Mode: Online via Zoom \nTarget Audience: Undergraduates of the Department of Social Statistics \nOrganized by\, Students’ Association Department of Social Statistics University of Sri Jayewardenepura
URL:http://archive.fhss.sjp.ac.lk/sost/event/leveraging-linkedin-unlocking-professional-success-in-the-digital-age/
CATEGORIES:Upcoming Events
ATTACH;FMTTYPE=image/jpeg:http://archive.fhss.sjp.ac.lk/sost/wp-content/uploads/sites/10/2023/06/LinkedIn-Guest-Talk-Flyer_Department-of-Social.jpg
END:VEVENT
END:VCALENDAR