BEGIN:VCALENDAR
VERSION:2.0
PRODID:-//Department of Social Statistics - ECPv5.4.0.2//NONSGML v1.0//EN
CALSCALE:GREGORIAN
METHOD:PUBLISH
X-WR-CALNAME:Department of Social Statistics
X-ORIGINAL-URL:http://archive.fhss.sjp.ac.lk/sost
X-WR-CALDESC:Events for Department of Social Statistics
BEGIN:VTIMEZONE
TZID:UTC
BEGIN:STANDARD
TZOFFSETFROM:+0000
TZOFFSETTO:+0000
TZNAME:UTC
DTSTART:20210101T000000
END:STANDARD
END:VTIMEZONE
BEGIN:VEVENT
DTSTART;TZID=UTC:20210924T120000
DTEND;TZID=UTC:20210924T133000
DTSTAMP:20260420T053303
CREATED:20210921T131734Z
LAST-MODIFIED:20210922T110509Z
UID:6603-1632484800-1632490200@archive.fhss.sjp.ac.lk
SUMMARY:The launch of the සංඛ්‍යාන සරණිය Volume 02
DESCRIPTION:
URL:http://archive.fhss.sjp.ac.lk/sost/event/the-launch-of-the-%e0%b7%83%e0%b6%82%e0%b6%9b%e0%b7%8a%e2%80%8d%e0%b6%ba%e0%b7%8f%e0%b6%b1-%e0%b7%83%e0%b6%bb%e0%b6%ab%e0%b7%92%e0%b6%ba-volume-02/
CATEGORIES:Upcoming Events
ATTACH;FMTTYPE=image/png:http://archive.fhss.sjp.ac.lk/sost/wp-content/uploads/sites/10/2021/09/Sankhyana-Saraniya-Featured-1.png
END:VEVENT
END:VCALENDAR