BEGIN:VCALENDAR
VERSION:2.0
PRODID:-//Department of Social Statistics - ECPv5.4.0.2//NONSGML v1.0//EN
CALSCALE:GREGORIAN
METHOD:PUBLISH
X-WR-CALNAME:Department of Social Statistics
X-ORIGINAL-URL:http://archive.fhss.sjp.ac.lk/sost
X-WR-CALDESC:Events for Department of Social Statistics
BEGIN:VTIMEZONE
TZID:UTC
BEGIN:STANDARD
TZOFFSETFROM:+0000
TZOFFSETTO:+0000
TZNAME:UTC
DTSTART:20230101T000000
END:STANDARD
END:VTIMEZONE
BEGIN:VEVENT
DTSTART;TZID=UTC:20230612T090000
DTEND;TZID=UTC:20230612T160000
DTSTAMP:20260420T021532
CREATED:20230608T160549Z
LAST-MODIFIED:20230608T161211Z
UID:6981-1686560400-1686585600@archive.fhss.sjp.ac.lk
SUMMARY:Training program on Professional Development and Team Building
DESCRIPTION:Professional development and team building are important for interns because they help to build essential skills and qualities that are necessary for success in any career. Through professional development\, interns can gain knowledge and skills in areas such as communication\, time management\, problem-solving\, and critical thinking. Team building\, on the other hand\, not only enhances an intern’s ability to work collaboratively with others\, but also promotes mutual understanding\, trust\, and respect among team members. \nTherefore\, before starting the internship\, the Department of Social Statistics is organizing a training program on Professional Development and Team Building for the fourth-year students of the department. The session will take place on 12th June 2023 from 9 a.m. to 4 p.m. at the University premises. Mr. Ramzi Zaindeen and Ms. Thevuni Kotigala\, two well-experienced professional consultants will join as the facilitators of the training program.
URL:http://archive.fhss.sjp.ac.lk/sost/event/training-program-on-professional-development-and-team-building/
CATEGORIES:Upcoming Events
ATTACH;FMTTYPE=image/jpeg:http://archive.fhss.sjp.ac.lk/sost/wp-content/uploads/sites/10/2023/06/Personality-Development-and-Team-Buidling_Department-of-Social.jpeg
END:VEVENT
END:VCALENDAR