BEGIN:VCALENDAR
VERSION:2.0
PRODID:-//Department of Social Statistics - ECPv5.4.0.2//NONSGML v1.0//EN
CALSCALE:GREGORIAN
METHOD:PUBLISH
X-WR-CALNAME:Department of Social Statistics
X-ORIGINAL-URL:http://archive.fhss.sjp.ac.lk/sost
X-WR-CALDESC:Events for Department of Social Statistics
BEGIN:VTIMEZONE
TZID:UTC
BEGIN:STANDARD
TZOFFSETFROM:+0000
TZOFFSETTO:+0000
TZNAME:UTC
DTSTART:20200101T000000
END:STANDARD
END:VTIMEZONE
BEGIN:VEVENT
DTSTART;TZID=UTC:20200123T080000
DTEND;TZID=UTC:20200123T170000
DTSTAMP:20260420T074652
CREATED:20210221T172842Z
LAST-MODIFIED:20210302T045943Z
UID:6300-1579766400-1579798800@archive.fhss.sjp.ac.lk
SUMMARY:Vidumaga Arunalu 2019 by Dept. of Social Statistics
DESCRIPTION:
URL:http://archive.fhss.sjp.ac.lk/sost/event/vidumaga-arunalu-2020-by-dept-of-social-statistics/
CATEGORIES:Upcoming Events
ATTACH;FMTTYPE=image/jpeg:http://archive.fhss.sjp.ac.lk/sost/wp-content/uploads/sites/10/2021/02/Survey-on-Computer-Literacy-by-Final-Year-Undergraduates-of-the-Dept.-of-Social-Statistics-7.jpg
END:VEVENT
END:VCALENDAR