BEGIN:VCALENDAR
VERSION:2.0
PRODID:-//Department of Social Statistics - ECPv5.4.0.2//NONSGML v1.0//EN
CALSCALE:GREGORIAN
METHOD:PUBLISH
X-WR-CALNAME:Department of Social Statistics
X-ORIGINAL-URL:http://archive.fhss.sjp.ac.lk/sost
X-WR-CALDESC:Events for Department of Social Statistics
BEGIN:VTIMEZONE
TZID:UTC
BEGIN:STANDARD
TZOFFSETFROM:+0000
TZOFFSETTO:+0000
TZNAME:UTC
DTSTART:20220101T000000
END:STANDARD
END:VTIMEZONE
BEGIN:VEVENT
DTSTART;TZID=UTC:20221211T090000
DTEND;TZID=UTC:20221211T120000
DTSTAMP:20260420T073308
CREATED:20230510T064947Z
LAST-MODIFIED:20230510T064947Z
UID:6960-1670749200-1670760000@archive.fhss.sjp.ac.lk
SUMMARY:Workshop on Data Visualization with Power BI
DESCRIPTION:“BI is about providing the right data at the right time to the right people so that they can take the right decisions” \n\nNic Smith\n\nThe Department of Social Statistics is organizing a Workshop on Data Visualization with Power BI. The resource person of the workshop is Ms. Anuradha Sooriyapperuma\, a Data Scientist at Hela Apparel Holdings. She has completed the Bachelor of Arts Honors Degree in Business Statistics and is currently reading MSc in Data Science and Artificial Intelligence. Through her knowledge and experience\, students can gain a practical demonstration of how to visualize data using Microsoft Power BI. \n📅 Date: 11/12/2022 (Sunday) 🕑 Time: 9 a.m. – 12 noon 📍 Mode: Virtual through Zoom Meetings \nIf you are interested to participate in the workshop\, register through the following Google Form: \nhttps://forms.gle/orxJ3wXz1ciagoQs8
URL:http://archive.fhss.sjp.ac.lk/sost/event/workshop-on-data-visualization-with-power-bi/
CATEGORIES:Upcoming Events
ATTACH;FMTTYPE=image/png:http://archive.fhss.sjp.ac.lk/sost/wp-content/uploads/sites/10/2023/05/workshop-on-data-visualization-with-power-bi.png
END:VEVENT
END:VCALENDAR