BEGIN:VCALENDAR
VERSION:2.0
PRODID:-//Department of Social Statistics - ECPv5.4.0.2//NONSGML v1.0//EN
CALSCALE:GREGORIAN
METHOD:PUBLISH
X-WR-CALNAME:Department of Social Statistics
X-ORIGINAL-URL:http://archive.fhss.sjp.ac.lk/sost
X-WR-CALDESC:Events for Department of Social Statistics
BEGIN:VTIMEZONE
TZID:UTC
BEGIN:STANDARD
TZOFFSETFROM:+0000
TZOFFSETTO:+0000
TZNAME:UTC
DTSTART:20230101T000000
END:STANDARD
END:VTIMEZONE
BEGIN:VEVENT
DTSTART;VALUE=DATE:20230615
DTEND;VALUE=DATE:20230616
DTSTAMP:20260419T182143
CREATED:20230615T092938Z
LAST-MODIFIED:20230615T092938Z
UID:6992-1686787200-1686873599@archive.fhss.sjp.ac.lk
SUMMARY:Workshop on Structural Equation Modelling (SEM) using SmartPLS
DESCRIPTION:Many important attributes in the social\, behavioral\, and health sciences cannot be observed directly. Examples of such attributes include happiness\, depression\, anxiety\, cognitive and social competence\, etc. They are typically measured by multiple indicators that are often subject to measurement errors. Structural equation modeling (SEM) has become a major tool for examining and understanding relationships among latent attributes. \nDepartment of Social Statistics is conducting a workshop on SEM using SmartPLS targeting mainly the fourth-year students of the department. The resource person of the workshop is Mr. Nuwan Maduwansha\, Senior Lecturer from the Department of Social Statistics. The workshop will be conducted online through Zoom Meetings on 15/06/2023 from 8 a.m. onwards.
URL:http://archive.fhss.sjp.ac.lk/sost/event/workshop-on-structural-equation-modelling-sem-using-smartpls/
CATEGORIES:Upcoming Events
ATTACH;FMTTYPE=image/jpeg:http://archive.fhss.sjp.ac.lk/sost/wp-content/uploads/sites/10/2023/06/Flyer-SEM-using-SmartPLS_Department-of-Social.jpg
END:VEVENT
END:VCALENDAR